BEGIN:VCALENDAR
VERSION:2.0
PRODID:-//International Sommelier Guild Vietnam - ECPv6.15.15//NONSGML v1.0//EN
CALSCALE:GREGORIAN
METHOD:PUBLISH
X-ORIGINAL-URL:https://isgsommelier.vn/en/
X-WR-CALDESC:Events for International Sommelier Guild Vietnam
REFRESH-INTERVAL;VALUE=DURATION:PT1H
X-Robots-Tag:noindex
X-PUBLISHED-TTL:PT1H
BEGIN:VTIMEZONE
TZID:Asia/Ho_Chi_Minh
BEGIN:STANDARD
TZOFFSETFROM:+0700
TZOFFSETTO:+0700
TZNAME:+07
DTSTART:20240101T000000
END:STANDARD
END:VTIMEZONE
BEGIN:VEVENT
DTSTART;TZID=Asia/Ho_Chi_Minh:20250925T130000
DTEND;TZID=Asia/Ho_Chi_Minh:20250925T163000
DTSTAMP:20260423T030934
CREATED:20250921T102943Z
LAST-MODIFIED:20250924T093934Z
UID:3076-1758805200-1758817800@isgsommelier.vn
SUMMARY:GRAND LAUNCH OF THE INTERNATIONAL SOMMELIER GUILD VIETNAM (ISGVN)
DESCRIPTION:Time: 25/09/2025 | 13:30 – 16:30\n Venue: Vinpearl Landmark 81\, Autograph Collection\, Ho Chi Minh City \n\n\nWith over 40 years of establishment and development\, the International Sommelier Guild (ISG) has become the world’s leading sommelier training and certification organization. Founded in the United States in 1982\, ISG is now present in more than 40 countries\, teaching in 17 languages\, and has successfully trained tens of thousands of students—many of whom are now renowned sommeliers\, outstanding F&B professionals\, and senior managers at leading global hospitality and culinary groups. \n\n\n This September\, ISG officially debuts in Vietnam with the launch of ISG Sommelier Vietnam—a significant milestone for the domestic F&B – Hospitality industry\, opening opportunities to access international-standard curricula in the local language\, taught and examined in full alignment with the global system.\n\n\n By joining the event\, you will have the opportunity to:\n\n\nMeet and hear insights from Mr. Joseph Miller – Global Chairman of ISG.\n\n\nExperience a “Demo Class” with the Mini Masterclass – an international-standard wine learning session.\n\n\nEnjoy exclusive offers when registering for courses directly at the event.\n\n\n Register to attend now at the link above: https://forms.gle/ccHfLB2VLa4cgA5F9\n\n\n Limited slots – register before September 22\, 2025\n\nBe among the pioneers to join ISGVN\, opening the door for Vietnam’s F&B – Hospitality industry to reach international levels. \n———————- \n\n\n\n\n GRAND LAUNCH OF THE INTERNATIONAL SOMMELIER GUILD VIETNAM (ISGVN)\n\n\n Date & Time: September 25\, 2025 | 13:30 – 16:30\n Venue: Vinpearl Landmark 81\, Autograph Collection\, Ho Chi Minh City\n\n\nFor over four decades\, the International Sommelier Guild (ISG) has been recognized as the world’s premier institution for Sommelier education and certification. Established in the United States in 1982\, ISG has built a global presence across more than 40 countries\, offering instruction in 17 languages\, and nurturing tens of thousands of distinguished graduates. Among them are acclaimed Sommeliers\, accomplished F&B experts\, and senior executives at the most prestigious hospitality and culinary organizations worldwide.  \n\n\n In September 2025\, ISG proudly marks its official presence in Vietnam with the establishment of ISG Sommelier Vietnam — a defining milestone for the nation’s F&B and Hospitality industry. This initiative unlocks unparalleled access to world-class curriculum\, locally delivered\, yet globally standardized and accredited. \n\n\nAttendees of this exclusive launch event will be privileged to:\n\n\nEngage with Joseph Miller\, Global Chairman of ISG\, and gain first-hand insights from an international industry authority.\n\n\nExperience a refined Mini Masterclass – Wine Tasting Showcase\, curated to ISG’s global standards.\n\n\nEnjoy priority enrollment privileges for upcoming ISG certification programs\, available exclusively during the event.\n\n\n Secure your invitation today: https://forms.gle/ccHfLB2VLa4cgA5F9\n\n\n Limited availability – registration closes on September 22\, 2025\n\n\nJoin us at this prestigious occasion with ISGVN\, and be among the vanguard shaping Vietnam’s journey to the global forefront of F&B and Hospitality excellence\n———————-\nInternational Sommelier Guild (ISG) – Tiêu chuẩn toàn cầu trong đào tạo Sommelier chuyên nghiệp!\n Website: www.isgsommelier.vn\n Hotline: +84-28-39716002\n Address: 11F\, Landmark 81\, 208 Nguyen Huu Canh\, Binh Thanh District\, HCMC\nStay tuned for detailed information about our first courses in Vietnam coming soon. Leave a comment to connect with us today! \n———————-\nInternational Sommelier Guild (ISG) – The global standard in professional Sommelier training!
URL:https://isgsommelier.vn/en/event/grand-launch-of-the-international-sommelier-guild-vietnam-isgvn/
LOCATION:Vinpearl Landmark 81\, 208 Nguyễn Hữu Cảnh\, Hồ Chí Minh\, Hồ Chí Minh\, 80000\, Viet Nam
ORGANIZER;CN="International Sommelier Guild Vietnam":MAILTO:info@internationalsommelier.vn
END:VEVENT
END:VCALENDAR